BEGIN:VCALENDAR
VERSION:2.0
PRODID:-//The UWSA - ECPv6.15.17.1//NONSGML v1.0//EN
CALSCALE:GREGORIAN
METHOD:PUBLISH
X-ORIGINAL-URL:https://theuwsa.ca
X-WR-CALDESC:Events for The UWSA
REFRESH-INTERVAL;VALUE=DURATION:PT1H
X-Robots-Tag:noindex
X-PUBLISHED-TTL:PT1H
BEGIN:VTIMEZONE
TZID:America/Winnipeg
BEGIN:DAYLIGHT
TZOFFSETFROM:-0600
TZOFFSETTO:-0500
TZNAME:CDT
DTSTART:20240310T080000
END:DAYLIGHT
BEGIN:STANDARD
TZOFFSETFROM:-0500
TZOFFSETTO:-0600
TZNAME:CST
DTSTART:20241103T070000
END:STANDARD
BEGIN:DAYLIGHT
TZOFFSETFROM:-0600
TZOFFSETTO:-0500
TZNAME:CDT
DTSTART:20250309T080000
END:DAYLIGHT
BEGIN:STANDARD
TZOFFSETFROM:-0500
TZOFFSETTO:-0600
TZNAME:CST
DTSTART:20251102T070000
END:STANDARD
BEGIN:DAYLIGHT
TZOFFSETFROM:-0600
TZOFFSETTO:-0500
TZNAME:CDT
DTSTART:20260308T080000
END:DAYLIGHT
BEGIN:STANDARD
TZOFFSETFROM:-0500
TZOFFSETTO:-0600
TZNAME:CST
DTSTART:20261101T070000
END:STANDARD
END:VTIMEZONE
BEGIN:VEVENT
DTSTART;VALUE=DATE:20250401
DTEND;VALUE=DATE:20250501
DTSTAMP:20260420T125617
CREATED:20250306T210328Z
LAST-MODIFIED:20250306T210328Z
UID:29701-1743465600-1746057599@theuwsa.ca
SUMMARY:Sikh Heritage Month
DESCRIPTION:April is proclaimed as Sikh Heritage Month by the Legislative Assembly of Ontario (Bill 52). The first of its kind in the world\, Sikh Heritage Month is a celebration of arts\, culture and heritage. \nTo learn more please visit: https://www.canada.ca/en/canadian-heritage/news/2022/03/statement-by-minister-hussen-on-sikh-heritage-month.html
URL:https://theuwsa.ca/event/sikh-heritage-month/
CATEGORIES:Important and Commemorative Dates
END:VEVENT
BEGIN:VEVENT
DTSTART;VALUE=DATE:20250409
DTEND;VALUE=DATE:20250410
DTSTAMP:20260420T125617
CREATED:20250306T210507Z
LAST-MODIFIED:20250306T210507Z
UID:29702-1744156800-1744243199@theuwsa.ca
SUMMARY:International Day of Pink
DESCRIPTION:April 9\, 2025 is the International Day of Pink! \nDiscrimination takes many shapes\, whether it’s based on race\, age\, disabilities\, gender or sexuality. The 2SLGBTQIA+ community is no stranger to the bullying and violence that stems from hateful beliefs. While progress has been made towards removing these social barriers from our society\, discrimination still persists. So\, every year\, on the second Wednesday of April\, we urge people around the world to put on a pink shirt and stand in solidarity with the 2SLGBTQIA+ community to continue fighting for equality and acceptance. \nFor more info on what you can do please visit: https://www.dayofpink.org/en/home-2023
URL:https://theuwsa.ca/event/international-day-of-pink/
END:VEVENT
BEGIN:VEVENT
DTSTART;VALUE=DATE:20250418
DTEND;VALUE=DATE:20250419
DTSTAMP:20260420T125617
CREATED:20240703T174702Z
LAST-MODIFIED:20240703T174702Z
UID:29151-1744934400-1745020799@theuwsa.ca
SUMMARY:Good Friday: University closed
DESCRIPTION:
URL:https://theuwsa.ca/event/good-friday-university-closed-3/
END:VEVENT
BEGIN:VEVENT
DTSTART;VALUE=DATE:20250430
DTEND;VALUE=DATE:20250504
DTSTAMP:20260420T125617
CREATED:20250425T165846Z
LAST-MODIFIED:20250425T170102Z
UID:29743-1745971200-1746316799@theuwsa.ca
SUMMARY:Info Booth Closed
DESCRIPTION:Closed: From Tuesday\, April 29 to Friday\, May 3\, reopening on May 5.
URL:https://theuwsa.ca/event/info-booth-closed/
END:VEVENT
BEGIN:VEVENT
DTSTART;TZID=America/Winnipeg:20250430T160000
DTEND;TZID=America/Winnipeg:20250430T180000
DTSTAMP:20260420T125617
CREATED:20250425T204451Z
LAST-MODIFIED:20250425T222855Z
UID:29751-1746028800-1746036000@theuwsa.ca
SUMMARY:Board of Directors Meeting
DESCRIPTION:All UWinnipeg students are welcome to attend the Open Session over Zoom. Please email admin@theuwsa.ca by 12:00 PM on the day of the meeting for the Zoom link using your UWinnipeg webmail address and your Student ID Number. \nPlease review the following documents before the meeting: \nBOD250430 Agenda \nOpen-Session-Package-BOD-250430 \nAll participants are expected to abide by the University’s Respectful Work and Learning Environment Policy.
URL:https://theuwsa.ca/event/board-of-directors-meeting-2/
END:VEVENT
END:VCALENDAR