BEGIN:VCALENDAR
VERSION:2.0
PRODID:-//The UWSA - ECPv6.15.17.1//NONSGML v1.0//EN
CALSCALE:GREGORIAN
METHOD:PUBLISH
X-WR-CALNAME:The UWSA
X-ORIGINAL-URL:https://theuwsa.ca
X-WR-CALDESC:Events for The UWSA
REFRESH-INTERVAL;VALUE=DURATION:PT1H
X-Robots-Tag:noindex
X-PUBLISHED-TTL:PT1H
BEGIN:VTIMEZONE
TZID:America/Winnipeg
BEGIN:DAYLIGHT
TZOFFSETFROM:-0600
TZOFFSETTO:-0500
TZNAME:CDT
DTSTART:20250309T080000
END:DAYLIGHT
BEGIN:STANDARD
TZOFFSETFROM:-0500
TZOFFSETTO:-0600
TZNAME:CST
DTSTART:20251102T070000
END:STANDARD
BEGIN:DAYLIGHT
TZOFFSETFROM:-0600
TZOFFSETTO:-0500
TZNAME:CDT
DTSTART:20260308T080000
END:DAYLIGHT
BEGIN:STANDARD
TZOFFSETFROM:-0500
TZOFFSETTO:-0600
TZNAME:CST
DTSTART:20261101T070000
END:STANDARD
BEGIN:DAYLIGHT
TZOFFSETFROM:-0600
TZOFFSETTO:-0500
TZNAME:CDT
DTSTART:20270314T080000
END:DAYLIGHT
BEGIN:STANDARD
TZOFFSETFROM:-0500
TZOFFSETTO:-0600
TZNAME:CST
DTSTART:20271107T070000
END:STANDARD
END:VTIMEZONE
BEGIN:VEVENT
DTSTART;VALUE=DATE:20260407
DTEND;VALUE=DATE:20260516
DTSTAMP:20260424T064600
CREATED:20260330T163524Z
LAST-MODIFIED:20260330T163528Z
UID:30458-1775520000-1778889599@theuwsa.ca
SUMMARY:Health Plan  Change-of-Coverage and Opt-out Period
DESCRIPTION:Can I opt out? \nYes. If you already have comparable health and dental coverage (e.g.\, through a parent\, guardian\, or employer)\, you may choose to opt out of the UWSA plan. \nTo opt out: \n\nYou must submit your request through the StudentCare Health Plan Opt-Out during the change-of-coverage period at the beginning of the term.\nLate opt-outs are not permitted once the deadline has passed.\n\n\nOpt-out period for 2025-26 Academic School Year:\nNew Spring Term students: April 7 – May 15\, 2026
URL:https://theuwsa.ca/event/health-plan-change-of-coverage-and-opt-out-period/
CATEGORIES:Important and Commemorative Dates
END:VEVENT
BEGIN:VEVENT
DTSTART;TZID=America/Winnipeg:20260424T100000
DTEND;TZID=America/Winnipeg:20260424T150000
DTSTAMP:20260424T064600
CREATED:20260330T174215Z
LAST-MODIFIED:20260330T174215Z
UID:30486-1777024800-1777042800@theuwsa.ca
SUMMARY:Info Booth Operating Hours
DESCRIPTION:Phone: 204-786-9787 Cell Phone: 431-374-6801 Fax: 204-779-4115 Email: infobooth@theuwsa.ca\nInfo Booth Hours\nSPRING HOURS starting April 7: 10:00 am – 3:00 p.m. from Monday to Friday
URL:https://theuwsa.ca/event/info-booth-operating-hours-14/
CATEGORIES:Important and Commemorative Dates
END:VEVENT
BEGIN:VEVENT
DTSTART;TZID=America/Winnipeg:20260424T110000
DTEND;TZID=America/Winnipeg:20260424T140000
DTSTAMP:20260424T064600
CREATED:20260420T145206Z
LAST-MODIFIED:20260420T145206Z
UID:30530-1777028400-1777039200@theuwsa.ca
SUMMARY:UWSA Board of Director Meeting
DESCRIPTION:NEXT MEETING: April 24\, 2026\, at 11:00 am. \nAll UWinnipeg students are welcome to attend the Open Session over Zoom. Please email admin@theuwsa.ca by 8:30 a.m. on the day of the meeting for the Zoom link using your UWinnipeg webmail address and your Student ID Number. \nAll participants are expected to abide by the University’s Respectful Work and Learning Environment Policy.
URL:https://theuwsa.ca/event/uwsa-board-of-director-meeting/
CATEGORIES:UWSA Events
END:VEVENT
BEGIN:VEVENT
DTSTART;TZID=America/Winnipeg:20260424T140000
DTEND;TZID=America/Winnipeg:20260424T170000
DTSTAMP:20260424T064600
CREATED:20260330T182253Z
LAST-MODIFIED:20260330T182253Z
UID:30496-1777039200-1777050000@theuwsa.ca
SUMMARY:UWSA Foodbank
DESCRIPTION:The volunteer-driven UWSA Foodbank was created to provide regular food supplements during the year to University of Winnipeg students and community members in need. Though it operates primarily in conjunction with Harvest Manitoba\, the Foodbank actively seeks additional donations from university groups and other community-based organizations.\nCheck-in begins at 2:00 p.m. every Friday in the Bulman Student Centre. Please arrive no later than 3:00 p.m. to check-in. Food distribution for registered clients starts at 3:00 p.m.\nWalk-ins are welcome. Walk-in clients are served in a lottery draw system and must check-in between 2:00 p.m. and 3:00 p.m. Walk-in distribution begins at 3:30 p.m.  Unfortunately\, we cannot guarantee food quantities for walk-ins.\nStudents and community members can sign up for UWSA Foodbank by calling Harvest Manitoba at 204-982-3660 or emailing appointments@harvestmanitoba.ca. Please keep your Student ID handy before you make the call. Students who are Canadian residents or permanent residents will also need their Health Card. \nHarvest Manitoba Registration Line: 204-982-3660\nMonday-Friday: 9:15 a.m. – 3:30 p.m. Saturday: 9:30 a.m. – 12:30 p.m. Have your medical number and call before Monday afternoon to register for Friday.
URL:https://theuwsa.ca/event/uwsa-foodbank-12/
LOCATION:Bulman Student Centre
CATEGORIES:UWSA Events
END:VEVENT
BEGIN:VEVENT
DTSTART;TZID=America/Winnipeg:20260424T180000
DTEND;TZID=America/Winnipeg:20260424T213000
DTSTAMP:20260424T064600
CREATED:20260415T185657Z
LAST-MODIFIED:20260415T185657Z
UID:30527-1777053600-1777066200@theuwsa.ca
SUMMARY:The UWSA Gala: An Evening of Celebration
DESCRIPTION:The University of Winnipeg Students’ Association is thrilled to invite students and alumni to one of the most anticipated events of the year: the UWSA Gala: An Evening of Celebration\, taking place on Friday\, April 24\, 2026 at the University of Winnipeg Convocation Hall. \nThis is a night dedicated to recognizing the remarkable contributions of students and student leaders in our community\, and we want the UWinnipeg community to celebrate alongside us. \nWhat to expect \nThe evening will feature the presentation of the UWSA Student Leader Award\, given to students who have gone above and beyond to make a difference on campus. It’s one of the most meaningful honours the UWSA bestows\, and this year’s recipients truly deserve to be celebrated. \nThe night doesn’t stop there. Attendees will also enjoy a special live performance by The Headspacers\, along with complimentary food and refreshments throughout the evening. It promises to be a night full of community\, music\, and well-deserved recognition. \nEvent Details \n\nDate: Friday\, April 24\, 2026\nTime: 6:00 PM – 9:30 PM CDT (doors open at 6:00 PM)\nLocation: The University of Winnipeg Convocation Hall\, 515 Portage Ave\, Winnipeg\nTickets: Free — spots are limited\nOpen to: Current University of Winnipeg students and alumni\nDress code: Dress in your best!\n\nRegister Now \nTickets are free\, but spots are limited. Register today at https://www.showpass.com/uwsa-gala/ to secure your place at the table. \nIf you have accessibility needs such as ASL interpretation\, alternate formats\, or accessible seating\, please email events@theuwsa.ca ahead of the event so we can accommodate you. \nThe UWSA is proud to support and celebrate the UWinnipeg student community\, and this gala is a reflection of just how much we value every one of you. We hope to see you on April 24!
URL:https://theuwsa.ca/event/the-uwsa-gala-an-evening-of-celebration/
CATEGORIES:UWSA Events
END:VEVENT
END:VCALENDAR