BEGIN:VCALENDAR
VERSION:2.0
PRODID:-//The UWSA - ECPv6.15.17.1//NONSGML v1.0//EN
CALSCALE:GREGORIAN
METHOD:PUBLISH
X-WR-CALNAME:The UWSA
X-ORIGINAL-URL:https://theuwsa.ca
X-WR-CALDESC:Events for The UWSA
REFRESH-INTERVAL;VALUE=DURATION:PT1H
X-Robots-Tag:noindex
X-PUBLISHED-TTL:PT1H
BEGIN:VTIMEZONE
TZID:America/Winnipeg
BEGIN:DAYLIGHT
TZOFFSETFROM:-0600
TZOFFSETTO:-0500
TZNAME:CDT
DTSTART:20220313T080000
END:DAYLIGHT
BEGIN:STANDARD
TZOFFSETFROM:-0500
TZOFFSETTO:-0600
TZNAME:CST
DTSTART:20221106T070000
END:STANDARD
BEGIN:DAYLIGHT
TZOFFSETFROM:-0600
TZOFFSETTO:-0500
TZNAME:CDT
DTSTART:20230312T080000
END:DAYLIGHT
BEGIN:STANDARD
TZOFFSETFROM:-0500
TZOFFSETTO:-0600
TZNAME:CST
DTSTART:20231105T070000
END:STANDARD
BEGIN:DAYLIGHT
TZOFFSETFROM:-0600
TZOFFSETTO:-0500
TZNAME:CDT
DTSTART:20240310T080000
END:DAYLIGHT
BEGIN:STANDARD
TZOFFSETFROM:-0500
TZOFFSETTO:-0600
TZNAME:CST
DTSTART:20241103T070000
END:STANDARD
END:VTIMEZONE
BEGIN:VEVENT
DTSTART;TZID=America/Winnipeg:20230206T090000
DTEND;TZID=America/Winnipeg:20230216T180000
DTSTAMP:20260421T080526
CREATED:20220816T003540Z
LAST-MODIFIED:20230120T184405Z
UID:26637-1675674000-1676570400@theuwsa.ca
SUMMARY:UWSA General Election Nomination Period
DESCRIPTION:Forms are available at theuwsa.ca/elections.
URL:https://theuwsa.ca/event/uwsa-general-election-nomination-period-3/
END:VEVENT
END:VCALENDAR